BEGIN:VCALENDAR
VERSION:2.0
PRODID:-//eventon.com NONSGML v1.0//EN
CALSCALE:GREGORIAN
METHOD:PUBLISH
BEGIN:VEVENT
UID:69e927664daae
DTSTAMP:20260422T195414Z
DTSTART:20260426T133000Z
DTEND:20260426T235900Z
LOCATION:Forest Grove Senior and Community Center 2037 Douglas Street\,  Forest Grove OR\,  97116
SUMMARY:Spring Accordion Celebration
DESCRIPTION:Sergei Teleshev and Maria Telesheva &#8211; featured accordioni
 sts at 4 pm You are invited to an afternoon of accordion music. Players wis
 hing to be on the program please RSVP to ensure a time slot. times remainin
 g will be open for those who sign in at the door. Performance time is[..]\n
 https://www.allclassical.org/event-archive/spring-accordion-celebration/
URL:https://www.allclassical.org/event-archive/spring-accordion-celebration/
END:VEVENT
END:VCALENDAR